Workbook
Name CMO_Asset_Sale_Yr: Ingredients!$D$78
Name Pct_JV: Ingredients!$D$79
Name Ratio_Biomass: Ingredients!#REF!
Name Ratio_Biomass_Initial: Ingredients!#REF!
Name Ratio_Biomass_Test: Ingredients!#REF!
Name Selected_Option: #REF!
Name TaxLossOption: #REF!

Sheet Assumptions
B1: Series E Assumptions
B2: Updated on 05/10/2022
B4: Production Assumptions - Refer to "Ingredients" Tab
B6: 1 | C6: Production numbers based on a combination of CMOs, Project Pele, and Project Eureka
B7: =B6+1 -> 2 | C7: Investments into production capacity through 2026 include $150m for CMOs, $175m ($75m for acquisition and $100m for capacity expansion) for Project Eureka, and $377m (initial $280m with a $97m expansion) for Project Pele
B8: =B7+1 -> 3 | C8: Strain development continues to make strong strides. Currently at 50-55 g/l, expected to grow to 70g/l by 2026
C10: Project Pele
B11: =B8+1 -> 4 | C11: Own plant build expected to give us control on our own capacity in the US, expected to come online in 2nd half 2025
B12: =B11+1 -> 5 | C12: Assumed LGB capacity for plant includes an initial 6k MT with an expansion to 9k MT in 2026
B13: =B12+1 -> 6 | C13: Plan to have production from 8 fermentors by 2028 with a further $75m investment
B14: =B13+1 -> 7 | C14: Fully loaded cost of goods anticipated to be $12/kg in 2025 and $9/kg in 2026 based on estimates developed by operations team
B15: =B14+1 -> 8 | C15: In house project engineering team developing site selection, costing, headcount and FEED (front end engineering design)
B16: =B15+1 -> 9 | C16: 25% decrease in cost/kg expected to be driven by efficiencies in overheads plus increase in titer plus process optimization
B17: =B16+1 -> 10 | C17: Potential commodity price fluctuations expected to be hedged to protect pricing of raw ingredients (Corn, Glucose etc.)
B18: =B17+1 -> 11 | C18: Logistics costs will be minimal as sourcing locally. Estimated at 10-20c/kg and included in cost/kg calculation. Customer pick up anticipated with ex works inco terms with customers
C20: CMO Production
B21: =B18+1 -> 12 | C21: CMO reliance on capacity through 2024 but onus on improved production quantities via investment and building internal know-how
B22: =B21+1 -> 13 | C22: 2022 capacity locked in with goals set at CMO to produce proteins.
B23: =B22+1 -> 14 | C23: Evonik assumed to be increasing production capacity based on increasing in titer and process optimization
B24: =B23+1 -> 15 | C24: Olon assumed to be increasing production capacity based on increased in fermentation and DSP capacity over 2022-2024 plus increase in titer and process optimization
B25: =B24+1 -> 16 | C25: Investments totaling $150m (2022 and 2023) in Olon expected to drive Olon as strategic partner beyond 2025
B26: =B25+1 -> 17 | C26: PD owned equipment exclusivity beyond 2025 signed up with Olon to protect investment
C28: Project Eureka
B29: =B26+1 -> 18 | C29: Acquisition expected to be finalized by the end of 2022
B30: =B29+1 -> 19 | C30: Assuming 2 year construction period for LGB capacity expansion for a total capacity of 6k MT by 2026
B31: =B30+1 -> 20 | C31: Will continue to produce pharmaceutical-grade products at facilities
B33: Business P&L's
C35: Brand Business (refer to tabs "Finance & Exec Summary" & "Key Input Drivers")
B36: =B31+1 -> 21 | C36: Introduction of new brands is assumed to drive revenue growth of with introduction over multiple categories.
B37: =B36+1 -> 22 | C37: Anticipated Brand growth driven by conservative assumptions of entry into stores, regions and velocities on skus.
B38: =B37+1 -> 23 | C38: Brand business expected to drive a weighted c.60% of total annual revenue from 2021 to 2025, with bandings ranging from 52% to 70%
B39: =B38+1 -> 24 | C39: Anticipation to launch new brands national and international across multiple categories and sectors
B40: =B39+1 -> 25 | C40: Milk, Creamer, Yogurt and Sports Nutrition expected to contribute c.60% of total brand revenue by 2025
B41: =B40+1 -> 26 | C41: In house R&D accelerated development in food platforms in 2021. Expected to continue to provide offerings to develop market.
B42: =B41+1 -> 27 | C42: A combination of focused marketing and sampling for 2022 & 2023 expected to drive increased consumer awareness in animal free dairy across all categories
B43: =B42+1 -> 28 | C43: Other brand overheads to include new hires to support growth both national and international. 2021 accounts for 26 with potential increase to 164 in line growth projections and targets across all categories
B44: =B43+1 -> 29 | C44: GM % growth from 2021 to 2025 driven by assumed reduction in production cost (see assumption #9) and overheads rather than price increase to consumer to ensure competiveness within the market across all categories
B45: =B44+1 -> 30 | C45: Variance in EBITA in 21-23 primarly driven by marketing awareness expenditure with expectation return to normal levels from 2024 onwards
B46: =B45+1 -> 31 | C46: Revenue growth and profitability assumed to be realized 2024 onwards due to expansion of product portfolio, channels and market penetration in key categories
C48: B2B ingredients (refer to tabs "Finance & Exec Summary" & "Key Input Drivers")
...

Sheet Presentation
C4: Revenue | D4: 2022 | E4: 2023 | F4: 2024 | G4: 2025 | H4: 2026 | I4: 2027 | J4: 2028 | K4: 2029 | L4: 2030 | M4: 2031
C5: Ingredients | D5: ='PD Global'!#REF!/1000 -> #REF! | E5: ='PD Global'!C24/1000 -> 9.3728638 | F5: ='PD Global'!D24/1000 -> 20.764603 | G5: ='PD Global'!E24/1000 -> 62.4257 | H5: ='PD Global'!F24/1000 -> 218.96346 | I5: ='PD Global'!G24/1000 -> 435.91955 | J5: ='PD Global'!H24/1000 -> 487.45343 | K5: ='PD Global'!I24/1000 -> 523.77685 | L5: ='PD Global'!J24/1000 -> 539.39329 | M5: ='PD Global'!K24/1000 -> 542.42754
C6: TUC | D6: ='PD Global'!#REF!/1000 -> #REF! | E6: ='PD Global'!C35/1000 -> 10.768 | F6: ='PD Global'!D35/1000 -> 3.8782 | G6: ='PD Global'!E35/1000 -> 1.6893638 | H6: ='PD Global'!F35/1000 -> 0 | I6: ='PD Global'!G35/1000 -> 0 | J6: ='PD Global'!H35/1000 -> 0 | K6: ='PD Global'!I35/1000 -> 0 | L6: ='PD Global'!J35/1000 -> 0 | M6: ='PD Global'!K35/1000 -> 0
C7: TUC Intl | D7: =('PD Global'!#REF! + 'PD Global'!#REF!) / 1000 -> #REF! | E7: =('PD Global'!C37 + 'PD Global'!C36) / 1000 -> 0 | F7: =('PD Global'!D37 + 'PD Global'!D36) / 1000 -> 0 | G7: =('PD Global'!E37 + 'PD Global'!E36) / 1000 -> 0 | H7: =('PD Global'!F37 + 'PD Global'!F36) / 1000 -> 0 | I7: =('PD Global'!G37 + 'PD Global'!G36) / 1000 -> 0 | J7: =('PD Global'!H37 + 'PD Global'!H36) / 1000 -> 0 | K7: =('PD Global'!I37 + 'PD Global'!I36) / 1000 -> 0 | L7: =('PD Global'!J37 + 'PD Global'!J36) / 1000 -> 0 | M7: =('PD Global'!K37 + 'PD Global'!K36) / 1000 -> 0
C8: Nth Bio | D8: ='PD Global'!#REF! / 1000 -> #REF! | E8: ='PD Global'!C38 / 1000 -> 5.4 | F8: ='PD Global'!D38 / 1000 -> 12.924 | G8: ='PD Global'!E38 / 1000 -> 22.31005 | H8: ='PD Global'!F38 / 1000 -> 43.807395 | I8: ='PD Global'!G38 / 1000 -> 46.072765 | J8: ='PD Global'!H38 / 1000 -> 48.773903 | K8: ='PD Global'!I38 / 1000 -> 51.414348 | L8: ='PD Global'!J38 / 1000 -> 54.547341 | M8: ='PD Global'!K38 / 1000 -> 57.690665
D9: =SUM(D5:D8) -> #REF! | E9: =SUM(E5:E8) -> 25.540864 | F9: =SUM(F5:F8) -> 37.566803 | G9: =SUM(G5:G8) -> 86.425114 | H9: =SUM(H5:H8) -> 262.77085 | I9: =SUM(I5:I8) -> 481.99232 | J9: =SUM(J5:J8) -> 536.22733 | K9: =SUM(K5:K8) -> 575.1912 | ... M9: =SUM(M5:M8) -> 600.1182
C35: LGB Volume | D35: =D4 -> 2022 | E35: =E4 -> 2023 | F35: =F4 -> 2024 | G35: =G4 -> 2025 | H35: =H4 -> 2026 | I35: =I4 -> 2027 | J35: =J4 -> 2028 | K35: =K4 -> 2029 | ... M35: =M4 -> 2031
C36: Pele | D36: =Ingredients!D9+Ingredients!O9 -> 0 | E36: =Ingredients!E9+Ingredients!P9 -> 0 | F36: =Ingredients!F9+Ingredients!Q9 -> 0 | G36: =Ingredients!G9+Ingredients!R9 -> 2519.286 | H36: =Ingredients!H9+Ingredients!S9 -> 7197.96 | I36: =Ingredients!I9+Ingredients!T9 -> 10197.96 | J36: =Ingredients!J9+Ingredients!U9 -> 12197.96 | K36: =Ingredients!K9+Ingredients!V9 -> 12197.96 | ... M36: =Ingredients!M9+Ingredients!X9 -> 12197.96
C37: Diego | D37: =Ingredients!D13+Ingredients!O13 -> 0 | E37: =Ingredients!E13+Ingredients!P13 -> 0 | F37: =Ingredients!F13+Ingredients!Q13 -> 0 | G37: =Ingredients!G13+Ingredients!R13 -> 0 | H37: =Ingredients!H13+Ingredients!S13 -> 2687.2384 | I37: =Ingredients!I13+Ingredients!T13 -> 7677.824 | J37: =Ingredients!J13+Ingredients!U13 -> 7677.824 | K37: =Ingredients!K13+Ingredients!V13 -> 7677.824 | ... M37: =Ingredients!M13+Ingredients!X13 -> 7677.824
C38: Vege | D38: =Ingredients!D17+Ingredients!O17 -> 0 | E38: =Ingredients!E17+Ingredients!P17 -> 0 | F38: =Ingredients!F17+Ingredients!Q17 -> 0 | G38: =Ingredients!G17+Ingredients!R17 -> 0 | H38: =Ingredients!H17+Ingredients!S17 -> 2687.2384 | I38: =Ingredients!I17+Ingredients!T17 -> 7677.824 | J38: =Ingredients!J17+Ingredients!U17 -> 7677.824 | K38: =Ingredients!K17+Ingredients!V17 -> 7677.824 | ... M38: =Ingredients!M17+Ingredients!X17 -> 7677.824
C39: SBL | D39: =Ingredients!D30+Ingredients!O30 -> 0 | E39: =Ingredients!E30+Ingredients!P30 -> 230 | F39: =Ingredients!F30+Ingredients!Q30 -> 890 | G39: =Ingredients!G30+Ingredients!R30 -> 1020 | H39: =Ingredients!H30+Ingredients!S30 -> 1020 | I39: =Ingredients!I30+Ingredients!T30 -> 0 | J39: =Ingredients!J30+Ingredients!U30 -> 0 | K39: =Ingredients!K30+Ingredients!V30 -> 0 | ... M39: =Ingredients!M30+Ingredients!X30 -> 0
C40: CMOs | D40: =Ingredients!D22+Ingredients!D26+Ingredients!O22+Ingredients!O26 -> 0 | E40: =Ingredients!E22+Ingredients!E26+Ingredients!P22+Ingredients!P26 -> 314 | F40: =Ingredients!F22+Ingredients!F26+Ingredients!Q22+Ingredients!Q26 -> 418 | G40: =Ingredients!G22+Ingredients!G26+Ingredients!R22+Ingredients!R26 -> 300 | H40: =Ingredients!H22+Ingredients!H26+Ingredients!S22+Ingredients!S26 -> 300 | I40: =Ingredients!I22+Ingredients!I26+Ingredients!T22+Ingredients!T26 -> 0 | J40: =Ingredients!J22+Ingredients!J26+Ingredients!U22+Ingredients!U26 -> 0 | K40: =Ingredients!K22+Ingredients!K26+Ingredients!V22+Ingredients!V26 -> 0 | ... M40: =Ingredients!M22+Ingredients!M26+Ingredients!X22+Ingredients!X26 -> 0
D41: =SUM(D36:D40) -> 0 | E41: =SUM(E36:E40) -> 544 | F41: =SUM(F36:F40) -> 1308 | G41: =SUM(G36:G40) -> 3839.286 | H41: =SUM(H36:H40) -> 13892.437 | I41: =SUM(I36:I40) -> 25553.608 | J41: =SUM(J36:J40) -> 27553.608 | K41: =SUM(K36:K40) -> 27553.608 | ... M41: =SUM(M36:M40) -> 27553.608

Sheet PD Global
B1: PD Global
B5: (in 000's) | C5: 2023 | D5: =C5+1 -> 2024 | E5: =D5+1 -> 2025 | F5: =E5+1 -> 2026 | G5: =F5+1 -> 2027 | H5: =G5+1 -> 2028 | I5: =H5+1 -> 2029 | J5: =I5+1 -> 2030 | K5: =J5+1 -> 2031 | M5: Comments
B7: Ingredient Production Volume (in MT)
B8: LGB | C8: =SUM(C9:C10) -> 544 | D8: =SUM(D9:D10) -> 1308 | E8: =SUM(E9:E10) -> 3839.286 | F8: =SUM(F9:F10) -> 13892.437 | G8: =SUM(G9:G10) -> 25553.608 | H8: =SUM(H9:H10) -> 27553.608 | I8: =SUM(I9:I10) -> 27553.608 | J8: =SUM(J9:J10) -> 27553.608 | K8: =SUM(K9:K10) -> 27553.608
B9: LGB Grade A | C9: =_xlfn.XLOOKUP(C$5, Ingredients!$D$5:$M$5, Ingredients!$D$38:$M$38, 0) -> 544 | D9: =_xlfn.XLOOKUP(D$5, Ingredients!$D$5:$M$5, Ingredients!$D$38:$M$38, 0) -> 1308 | E9: =_xlfn.XLOOKUP(E$5, Ingredients!$D$5:$M$5, Ingredients!$D$38:$M$38, 0) -> 1949.8215 | F9: =_xlfn.XLOOKUP(F$5, Ingredients!$D$5:$M$5, Ingredients!$D$38:$M$38, 0) -> 3791.2996 | G9: =_xlfn.XLOOKUP(G$5, Ingredients!$D$5:$M$5, Ingredients!$D$38:$M$38, 0) -> 4468.946 | H9: =_xlfn.XLOOKUP(H$5, Ingredients!$D$5:$M$5, Ingredients!$D$38:$M$38, 0) -> 4968.946 | I9: =_xlfn.XLOOKUP(I$5, Ingredients!$D$5:$M$5, Ingredients!$D$38:$M$38, 0) -> 4968.946 | J9: =_xlfn.XLOOKUP(J$5, Ingredients!$D$5:$M$5, Ingredients!$D$38:$M$38, 0) -> 4968.946 | K9: =_xlfn.XLOOKUP(K$5, Ingredients!$D$5:$M$5, Ingredients!$D$38:$M$38, 0) -> 4968.946
B10: LGB Grade B | C10: =_xlfn.XLOOKUP(C$5, Ingredients!$O$5:$X$5, Ingredients!$O$38:$X$38, 0) -> 0 | D10: =_xlfn.XLOOKUP(D$5, Ingredients!$O$5:$X$5, Ingredients!$O$38:$X$38, 0) -> 0 | E10: =_xlfn.XLOOKUP(E$5, Ingredients!$O$5:$X$5, Ingredients!$O$38:$X$38, 0) -> 1889.4645 | F10: =_xlfn.XLOOKUP(F$5, Ingredients!$O$5:$X$5, Ingredients!$O$38:$X$38, 0) -> 10101.137 | G10: =_xlfn.XLOOKUP(G$5, Ingredients!$O$5:$X$5, Ingredients!$O$38:$X$38, 0) -> 21084.662 | H10: =_xlfn.XLOOKUP(H$5, Ingredients!$O$5:$X$5, Ingredients!$O$38:$X$38, 0) -> 22584.662 | I10: =_xlfn.XLOOKUP(I$5, Ingredients!$O$5:$X$5, Ingredients!$O$38:$X$38, 0) -> 22584.662 | J10: =_xlfn.XLOOKUP(J$5, Ingredients!$O$5:$X$5, Ingredients!$O$38:$X$38, 0) -> 22584.662 | K10: =_xlfn.XLOOKUP(K$5, Ingredients!$O$5:$X$5, Ingredients!$O$38:$X$38, 0) -> 22584.662
B11: Biomass | C11: =_xlfn.XLOOKUP(C$5, Ingredients!$Z$5:$AI$5, Ingredients!$Z$38:$AI$38, 0) -> 0 | D11: =_xlfn.XLOOKUP(D$5, Ingredients!$Z$5:$AI$5, Ingredients!$Z$38:$AI$38, 0) -> 0 | E11: =_xlfn.XLOOKUP(E$5, Ingredients!$Z$5:$AI$5, Ingredients!$Z$38:$AI$38, 0) -> 4282.7862 | F11: =_xlfn.XLOOKUP(F$5, Ingredients!$Z$5:$AI$5, Ingredients!$Z$38:$AI$38, 0) -> 21373.143 | G11: =_xlfn.XLOOKUP(G$5, Ingredients!$Z$5:$AI$5, Ingredients!$Z$38:$AI$38, 0) -> 43441.134 | H11: =_xlfn.XLOOKUP(H$5, Ingredients!$Z$5:$AI$5, Ingredients!$Z$38:$AI$38, 0) -> 46841.134 | I11: =_xlfn.XLOOKUP(I$5, Ingredients!$Z$5:$AI$5, Ingredients!$Z$38:$AI$38, 0) -> 46841.134 | J11: =_xlfn.XLOOKUP(J$5, Ingredients!$Z$5:$AI$5, Ingredients!$Z$38:$AI$38, 0) -> 46841.134 | K11: =_xlfn.XLOOKUP(K$5, Ingredients!$Z$5:$AI$5, Ingredients!$Z$38:$AI$38, 0) -> 46841.134
B12: Brazzein | C12: =_xlfn.XLOOKUP(C$5, Ingredients!$AK$5:$AT$5, Ingredients!$AK$38:$AT$38, 0) -> 0 | D12: =_xlfn.XLOOKUP(D$5, Ingredients!$AK$5:$AT$5, Ingredients!$AK$38:$AT$38, 0) -> 0 | E12: =_xlfn.XLOOKUP(E$5, Ingredients!$AK$5:$AT$5, Ingredients!$AK$38:$AT$38, 0) -> 0.7 | F12: =_xlfn.XLOOKUP(F$5, Ingredients!$AK$5:$AT$5, Ingredients!$AK$38:$AT$38, 0) -> 4 | G12: =_xlfn.XLOOKUP(G$5, Ingredients!$AK$5:$AT$5, Ingredients!$AK$38:$AT$38, 0) -> 20 | H12: =_xlfn.XLOOKUP(H$5, Ingredients!$AK$5:$AT$5, Ingredients!$AK$38:$AT$38, 0) -> 30 | I12: =_xlfn.XLOOKUP(I$5, Ingredients!$AK$5:$AT$5, Ingredients!$AK$38:$AT$38, 0) -> 45 | J12: =_xlfn.XLOOKUP(J$5, Ingredients!$AK$5:$AT$5, Ingredients!$AK$38:$AT$38, 0) -> 67.5 | K12: =_xlfn.XLOOKUP(K$5, Ingredients!$AK$5:$AT$5, Ingredients!$AK$38:$AT$38, 0) -> 70.875
B13: LAA | C13: =_xlfn.XLOOKUP(C$5, Ingredients!$AV$5:$BE$5, Ingredients!$AV$38:$BE$38, 0) -> 0 | D13: =_xlfn.XLOOKUP(D$5, Ingredients!$AV$5:$BE$5, Ingredients!$AV$38:$BE$38, 0) -> 0 | E13: =_xlfn.XLOOKUP(E$5, Ingredients!$AV$5:$BE$5, Ingredients!$AV$38:$BE$38, 0) -> 0 | F13: =_xlfn.XLOOKUP(F$5, Ingredients!$AV$5:$BE$5, Ingredients!$AV$38:$BE$38, 0) -> 0 | G13: =_xlfn.XLOOKUP(G$5, Ingredients!$AV$5:$BE$5, Ingredients!$AV$38:$BE$38, 0) -> 400 | H13: =_xlfn.XLOOKUP(H$5, Ingredients!$AV$5:$BE$5, Ingredients!$AV$38:$BE$38, 0) -> 1150 | I13: =_xlfn.XLOOKUP(I$5, Ingredients!$AV$5:$BE$5, Ingredients!$AV$38:$BE$38, 0) -> 1750 | J13: =_xlfn.XLOOKUP(J$5, Ingredients!$AV$5:$BE$5, Ingredients!$AV$38:$BE$38, 0) -> 2050 | K13: =_xlfn.XLOOKUP(K$5, Ingredients!$AV$5:$BE$5, Ingredients!$AV$38:$BE$38, 0) -> 2152.5
B15: Ingredient Sales Volume (in MT)
B16: LGB | C16: =SUM(C17:C18) -> 437.57534 | D16: =SUM(D17:D18) -> 1122.411 | E16: =SUM(E17:E18) -> 3550.2488 | F16: =SUM(F17:F18) -> 13348.163 | G16: =SUM(G17:G18) -> 25471.784 | H16: =SUM(H17:H18) -> 27471.416 | I16: =SUM(I17:I18) -> 27553.608 | J16: =SUM(J17:J18) -> 27553.608 | K16: =SUM(K17:K18) -> 27553.608
B17: LGB Grade A | C17: =_xlfn.XLOOKUP(C$5, Ingredients!$D$5:$M$5, Ingredients!$D$42:$M$42, 0) -> 437.57534 | D17: =_xlfn.XLOOKUP(D$5, Ingredients!$D$5:$M$5, Ingredients!$D$42:$M$42, 0) -> 1122.411 | E17: =_xlfn.XLOOKUP(E$5, Ingredients!$D$5:$M$5, Ingredients!$D$42:$M$42, 0) -> 1896.0827 | F17: =_xlfn.XLOOKUP(F$5, Ingredients!$D$5:$M$5, Ingredients!$D$42:$M$42, 0) -> 3728.3688 | G17: =_xlfn.XLOOKUP(G$5, Ingredients!$D$5:$M$5, Ingredients!$D$42:$M$42, 0) -> 4616.974 | H17: =_xlfn.XLOOKUP(H$5, Ingredients!$D$5:$M$5, Ingredients!$D$42:$M$42, 0) -> 4948.3981 | I17: =_xlfn.XLOOKUP(I$5, Ingredients!$D$5:$M$5, Ingredients!$D$42:$M$42, 0) -> 4968.946 | J17: =_xlfn.XLOOKUP(J$5, Ingredients!$D$5:$M$5, Ingredients!$D$42:$M$42, 0) -> 4968.946 | K17: =_xlfn.XLOOKUP(K$5, Ingredients!$D$5:$M$5, Ingredients!$D$42:$M$42, 0) -> 4968.946
B18: LGB Grade B | C18: =_xlfn.XLOOKUP(C$5, Ingredients!$O$5:$X$5, Ingredients!$O$42:$X$42, 0) -> 0 | D18: =_xlfn.XLOOKUP(D$5, Ingredients!$O$5:$X$5, Ingredients!$O$42:$X$42, 0) -> 0 | E18: =_xlfn.XLOOKUP(E$5, Ingredients!$O$5:$X$5, Ingredients!$O$42:$X$42, 0) -> 1654.166 | F18: =_xlfn.XLOOKUP(F$5, Ingredients!$O$5:$X$5, Ingredients!$O$42:$X$42, 0) -> 9619.7942 | G18: =_xlfn.XLOOKUP(G$5, Ingredients!$O$5:$X$5, Ingredients!$O$42:$X$42, 0) -> 20854.811 | H18: =_xlfn.XLOOKUP(H$5, Ingredients!$O$5:$X$5, Ingredients!$O$42:$X$42, 0) -> 22523.018 | I18: =_xlfn.XLOOKUP(I$5, Ingredients!$O$5:$X$5, Ingredients!$O$42:$X$42, 0) -> 22584.662 | J18: =_xlfn.XLOOKUP(J$5, Ingredients!$O$5:$X$5, Ingredients!$O$42:$X$42, 0) -> 22584.662 | K18: =_xlfn.XLOOKUP(K$5, Ingredients!$O$5:$X$5, Ingredients!$O$42:$X$42, 0) -> 22584.662
B19: Biomass | C19: =_xlfn.XLOOKUP(C$5, Ingredients!$Z$5:$AI$5, Ingredients!$Z$42:$AI$42, 0) -> 0 | D19: =_xlfn.XLOOKUP(D$5, Ingredients!$Z$5:$AI$5, Ingredients!$Z$42:$AI$42, 0) -> 0 | E19: =_xlfn.XLOOKUP(E$5, Ingredients!$Z$5:$AI$5, Ingredients!$Z$42:$AI$42, 0) -> 4165.4496 | F19: =_xlfn.XLOOKUP(F$5, Ingredients!$Z$5:$AI$5, Ingredients!$Z$42:$AI$42, 0) -> 20904.914 | G19: =_xlfn.XLOOKUP(G$5, Ingredients!$Z$5:$AI$5, Ingredients!$Z$42:$AI$42, 0) -> 42836.531 | H19: =_xlfn.XLOOKUP(H$5, Ingredients!$Z$5:$AI$5, Ingredients!$Z$42:$AI$42, 0) -> 46747.983 | I19: =_xlfn.XLOOKUP(I$5, Ingredients!$Z$5:$AI$5, Ingredients!$Z$42:$AI$42, 0) -> 46841.134 | J19: =_xlfn.XLOOKUP(J$5, Ingredients!$Z$5:$AI$5, Ingredients!$Z$42:$AI$42, 0) -> 46841.134 | K19: =_xlfn.XLOOKUP(K$5, Ingredients!$Z$5:$AI$5, Ingredients!$Z$42:$AI$42, 0) -> 46841.134
B20: Brazzein | C20: =_xlfn.XLOOKUP(C$5, Ingredients!$AK$5:$AT$5, Ingredients!$AK$42:$AT$42, 0) -> 0 | D20: =_xlfn.XLOOKUP(D$5, Ingredients!$AK$5:$AT$5, Ingredients!$AK$42:$AT$42, 0) -> 0 | E20: =_xlfn.XLOOKUP(E$5, Ingredients!$AK$5:$AT$5, Ingredients!$AK$42:$AT$42, 0) -> 0.58493151 | F20: =_xlfn.XLOOKUP(F$5, Ingredients!$AK$5:$AT$5, Ingredients!$AK$42:$AT$42, 0) -> 3.5671233 | G20: =_xlfn.XLOOKUP(G$5, Ingredients!$AK$5:$AT$5, Ingredients!$AK$42:$AT$42, 0) -> 19.726027 | H20: =_xlfn.XLOOKUP(H$5, Ingredients!$AK$5:$AT$5, Ingredients!$AK$42:$AT$42, 0) -> 29.589041 | I20: =_xlfn.XLOOKUP(I$5, Ingredients!$AK$5:$AT$5, Ingredients!$AK$42:$AT$42, 0) -> 44.383562 | J20: =_xlfn.XLOOKUP(J$5, Ingredients!$AK$5:$AT$5, Ingredients!$AK$42:$AT$42, 0) -> 66.575342 | K20: =_xlfn.XLOOKUP(K$5, Ingredients!$AK$5:$AT$5, Ingredients!$AK$42:$AT$42, 0) -> 70.736301
B21: LAA | C21: =_xlfn.XLOOKUP(C$5, Ingredients!$AV$5:$BE$5, Ingredients!$AV$42:$BE$42, 0) -> 0 | D21: =_xlfn.XLOOKUP(D$5, Ingredients!$AV$5:$BE$5, Ingredients!$AV$42:$BE$42, 0) -> 0 | E21: =_xlfn.XLOOKUP(E$5, Ingredients!$AV$5:$BE$5, Ingredients!$AV$42:$BE$42, 0) -> 0 | F21: =_xlfn.XLOOKUP(F$5, Ingredients!$AV$5:$BE$5, Ingredients!$AV$42:$BE$42, 0) -> 0 | G21: =_xlfn.XLOOKUP(G$5, Ingredients!$AV$5:$BE$5, Ingredients!$AV$42:$BE$42, 0) -> 383.56164 | H21: =_xlfn.XLOOKUP(H$5, Ingredients!$AV$5:$BE$5, Ingredients!$AV$42:$BE$42, 0) -> 1119.1781 | I21: =_xlfn.XLOOKUP(I$5, Ingredients!$AV$5:$BE$5, Ingredients!$AV$42:$BE$42, 0) -> 1725.3425 | J21: =_xlfn.XLOOKUP(J$5, Ingredients!$AV$5:$BE$5, Ingredients!$AV$42:$BE$42, 0) -> 2037.6712 | K21: =_xlfn.XLOOKUP(K$5, Ingredients!$AV$5:$BE$5, Ingredients!$AV$42:$BE$42, 0) -> 2148.2877
B23: Net Revenue
B24: B2B Global | C24: =SUM(C25:C29) -> 9372.8638 | D24: =SUM(D25:D29) -> 20764.603 | E24: =SUM(E25:E29) -> 62425.7 | F24: =SUM(F25:F29) -> 218963.46 | G24: =SUM(G25:G29) -> 435919.55 | H24: =SUM(H25:H29) -> 487453.43 | I24: =SUM(I25:I29) -> 523776.85 | J24: =SUM(J25:J29) -> 539393.29 | K24: =SUM(K25:K29) -> 542427.54
B25: LGB Grade A | C25: =_xlfn.XLOOKUP(C$5, Ingredients!$D$5:$M$5, Ingredients!$D$51:$M$51, 0) -> 9372.8638 | D25: =_xlfn.XLOOKUP(D$5, Ingredients!$D$5:$M$5, Ingredients!$D$51:$M$51, 0) -> 20764.603 | E25: =_xlfn.XLOOKUP(E$5, Ingredients!$D$5:$M$5, Ingredients!$D$51:$M$51, 0) -> 32328.211 | F25: =_xlfn.XLOOKUP(F$5, Ingredients!$D$5:$M$5, Ingredients!$D$51:$M$51, 0) -> 57416.879 | G25: =_xlfn.XLOOKUP(G$5, Ingredients!$D$5:$M$5, Ingredients!$D$51:$M$51, 0) -> 71101.399 | H25: =_xlfn.XLOOKUP(H$5, Ingredients!$D$5:$M$5, Ingredients!$D$51:$M$51, 0) -> 70762.092 | I25: =_xlfn.XLOOKUP(I$5, Ingredients!$D$5:$M$5, Ingredients!$D$51:$M$51, 0) -> 71055.928 | J25: =_xlfn.XLOOKUP(J$5, Ingredients!$D$5:$M$5, Ingredients!$D$51:$M$51, 0) -> 71055.928 | K25: =_xlfn.XLOOKUP(K$5, Ingredients!$D$5:$M$5, Ingredients!$D$51:$M$51, 0) -> 71055.928
B26: LGB Grade B | C26: =_xlfn.XLOOKUP(C$5, Ingredients!$O$5:$X$5, Ingredients!$O$51:$X$51, 0) -> 0 | D26: =_xlfn.XLOOKUP(D$5, Ingredients!$O$5:$X$5, Ingredients!$O$51:$X$51, 0) -> 0 | E26: =_xlfn.XLOOKUP(E$5, Ingredients!$O$5:$X$5, Ingredients!$O$51:$X$51, 0) -> 25639.574 | F26: =_xlfn.XLOOKUP(F$5, Ingredients!$O$5:$X$5, Ingredients!$O$51:$X$51, 0) -> 134677.12 | G26: =_xlfn.XLOOKUP(G$5, Ingredients!$O$5:$X$5, Ingredients!$O$51:$X$51, 0) -> 284373.22 | H26: =_xlfn.XLOOKUP(H$5, Ingredients!$O$5:$X$5, Ingredients!$O$51:$X$51, 0) -> 292799.24 | I26: =_xlfn.XLOOKUP(I$5, Ingredients!$O$5:$X$5, Ingredients!$O$51:$X$51, 0) -> 293600.61 | J26: =_xlfn.XLOOKUP(J$5, Ingredients!$O$5:$X$5, Ingredients!$O$51:$X$51, 0) -> 293600.61 | K26: =_xlfn.XLOOKUP(K$5, Ingredients!$O$5:$X$5, Ingredients!$O$51:$X$51, 0) -> 293600.61
B27: Biomass | C27: =_xlfn.XLOOKUP(C$5, Ingredients!$Z$5:$AI$5, Ingredients!$Z$51:$AI$51, 0) -> 0 | D27: =_xlfn.XLOOKUP(D$5, Ingredients!$Z$5:$AI$5, Ingredients!$Z$51:$AI$51, 0) -> 0 | E27: =_xlfn.XLOOKUP(E$5, Ingredients!$Z$5:$AI$5, Ingredients!$Z$51:$AI$51, 0) -> 4165.4496 | F27: =_xlfn.XLOOKUP(F$5, Ingredients!$Z$5:$AI$5, Ingredients!$Z$51:$AI$51, 0) -> 25085.896 | G27: =_xlfn.XLOOKUP(G$5, Ingredients!$Z$5:$AI$5, Ingredients!$Z$51:$AI$51, 0) -> 51403.837 | H27: =_xlfn.XLOOKUP(H$5, Ingredients!$Z$5:$AI$5, Ingredients!$Z$51:$AI$51, 0) -> 56097.579 | I27: =_xlfn.XLOOKUP(I$5, Ingredients!$Z$5:$AI$5, Ingredients!$Z$51:$AI$51, 0) -> 56209.36 | J27: =_xlfn.XLOOKUP(J$5, Ingredients!$Z$5:$AI$5, Ingredients!$Z$51:$AI$51, 0) -> 56209.36 | K27: =_xlfn.XLOOKUP(K$5, Ingredients!$Z$5:$AI$5, Ingredients!$Z$51:$AI$51, 0) -> 56209.36
B28: Brazzein | C28: =_xlfn.XLOOKUP(C$5, Ingredients!$AK$5:$AT$5, Ingredients!$AK$51:$AT$51, 0) -> 0 | D28: =_xlfn.XLOOKUP(D$5, Ingredients!$AK$5:$AT$5, Ingredients!$AK$51:$AT$51, 0) -> 0 | E28: =_xlfn.XLOOKUP(E$5, Ingredients!$AK$5:$AT$5, Ingredients!$AK$51:$AT$51, 0) -> 292.46575 | F28: =_xlfn.XLOOKUP(F$5, Ingredients!$AK$5:$AT$5, Ingredients!$AK$51:$AT$51, 0) -> 1783.5616 | G28: =_xlfn.XLOOKUP(G$5, Ingredients!$AK$5:$AT$5, Ingredients!$AK$51:$AT$51, 0) -> 9863.0137 | H28: =_xlfn.XLOOKUP(H$5, Ingredients!$AK$5:$AT$5, Ingredients!$AK$51:$AT$51, 0) -> 11835.616 | I28: =_xlfn.XLOOKUP(I$5, Ingredients!$AK$5:$AT$5, Ingredients!$AK$51:$AT$51, 0) -> 16643.836 | J28: =_xlfn.XLOOKUP(J$5, Ingredients!$AK$5:$AT$5, Ingredients!$AK$51:$AT$51, 0) -> 16643.836 | K28: =_xlfn.XLOOKUP(K$5, Ingredients!$AK$5:$AT$5, Ingredients!$AK$51:$AT$51, 0) -> 14147.26
B29: LAA | C29: =_xlfn.XLOOKUP(C$5, Ingredients!$AV$5:$BE$5, Ingredients!$AV$51:$BE$51, 0) -> 0 | D29: =_xlfn.XLOOKUP(D$5, Ingredients!$AV$5:$BE$5, Ingredients!$AV$51:$BE$51, 0) -> 0 | E29: =_xlfn.XLOOKUP(E$5, Ingredients!$AV$5:$BE$5, Ingredients!$AV$51:$BE$51, 0) -> 0 | F29: =_xlfn.XLOOKUP(F$5, Ingredients!$AV$5:$BE$5, Ingredients!$AV$51:$BE$51, 0) -> 0 | G29: =_xlfn.XLOOKUP(G$5, Ingredients!$AV$5:$BE$5, Ingredients!$AV$51:$BE$51, 0) -> 19178.082 | H29: =_xlfn.XLOOKUP(H$5, Ingredients!$AV$5:$BE$5, Ingredients!$AV$51:$BE$51, 0) -> 55958.904 | I29: =_xlfn.XLOOKUP(I$5, Ingredients!$AV$5:$BE$5, Ingredients!$AV$51:$BE$51, 0) -> 86267.123 | J29: =_xlfn.XLOOKUP(J$5, Ingredients!$AV$5:$BE$5, Ingredients!$AV$51:$BE$51, 0) -> 101883.56 | K29: =_xlfn.XLOOKUP(K$5, Ingredients!$AV$5:$BE$5, Ingredients!$AV$51:$BE$51, 0) -> 107414.38
B30: SBL (Excl. LGB) | C30: =SUM(C31:C33) -> 45058.8 | D30: =SUM(D31:D33) -> 53496.34 | E30: =SUM(E31:E33) -> 57842.947 | F30: =SUM(F31:F33) -> 62604.154 | G30: =SUM(G31:G33) -> 67821.02 | H30: =SUM(H31:H33) -> 70812.913 | I30: =SUM(I31:I33) -> 74082.131 | J30: =SUM(J31:J33) -> 73597.857 | K30: =SUM(K31:K33) -> 74029.793
B31: Pharma (India) | C31: =_xlfn.XLOOKUP(C$5, Ingredients!$BG$5:$BP$5, Ingredients!$BG$51:$BP$51,0) + _xlfn.XLOOKUP(C$5, Ingredients!$BR$5:$CA$5, Ingredients!$BR$51:$CA$51, 0) -> 12292 | D31: =_xlfn.XLOOKUP(D$5, Ingredients!$BG$5:$BP$5, Ingredients!$BG$51:$BP$51,0) + _xlfn.XLOOKUP(D$5, Ingredients!$BR$5:$CA$5, Ingredients!$BR$51:$CA$51, 0) -> 12537.84 | E31: =_xlfn.XLOOKUP(E$5, Ingredients!$BG$5:$BP$5, Ingredients!$BG$51:$BP$51,0) + _xlfn.XLOOKUP(E$5, Ingredients!$BR$5:$CA$5, Ingredients!$BR$51:$CA$51, 0) -> 12788.597 | F31: =_xlfn.XLOOKUP(F$5, Ingredients!$BG$5:$BP$5, Ingredients!$BG$51:$BP$51,0) + _xlfn.XLOOKUP(F$5, Ingredients!$BR$5:$CA$5, Ingredients!$BR$51:$CA$51, 0) -> 13044.369 | G31: =_xlfn.XLOOKUP(G$5, Ingredients!$BG$5:$BP$5, Ingredients!$BG$51:$BP$51,0) + _xlfn.XLOOKUP(G$5, Ingredients!$BR$5:$CA$5, Ingredients!$BR$51:$CA$51, 0) -> 13305.256 | H31: =_xlfn.XLOOKUP(H$5, Ingredients!$BG$5:$BP$5, Ingredients!$BG$51:$BP$51,0) + _xlfn.XLOOKUP(H$5, Ingredients!$BR$5:$CA$5, Ingredients!$BR$51:$CA$51, 0) -> 13571.361 | I31: =_xlfn.XLOOKUP(I$5, Ingredients!$BG$5:$BP$5, Ingredients!$BG$51:$BP$51,0) + _xlfn.XLOOKUP(I$5, Ingredients!$BR$5:$CA$5, Ingredients!$BR$51:$CA$51, 0) -> 13978.502 | J31: =_xlfn.XLOOKUP(J$5, Ingredients!$BG$5:$BP$5, Ingredients!$BG$51:$BP$51,0) + _xlfn.XLOOKUP(J$5, Ingredients!$BR$5:$CA$5, Ingredients!$BR$51:$CA$51, 0) -> 14397.857 | K31: =_xlfn.XLOOKUP(K$5, Ingredients!$BG$5:$BP$5, Ingredients!$BG$51:$BP$51,0) + _xlfn.XLOOKUP(K$5, Ingredients!$BR$5:$CA$5, Ingredients!$BR$51:$CA$51, 0) -> 14829.793
B32: Gelatin | C32: =_xlfn.XLOOKUP(C$5, Ingredients!$CC$5:$CL$5, Ingredients!$CC$51:$CL$51, 0) -> 27650 | D32: =_xlfn.XLOOKUP(D$5, Ingredients!$CC$5:$CL$5, Ingredients!$CC$51:$CL$51, 0) -> 34562.5 | E32: =_xlfn.XLOOKUP(E$5, Ingredients!$CC$5:$CL$5, Ingredients!$CC$51:$CL$51, 0) -> 38018.75 | F32: =_xlfn.XLOOKUP(F$5, Ingredients!$CC$5:$CL$5, Ingredients!$CC$51:$CL$51, 0) -> 41820.625 | G32: =_xlfn.XLOOKUP(G$5, Ingredients!$CC$5:$CL$5, Ingredients!$CC$51:$CL$51, 0) -> 46002.688 | H32: =_xlfn.XLOOKUP(H$5, Ingredients!$CC$5:$CL$5, Ingredients!$CC$51:$CL$51, 0) -> 48302.822 | I32: =_xlfn.XLOOKUP(I$5, Ingredients!$CC$5:$CL$5, Ingredients!$CC$51:$CL$51, 0) -> 50717.963 | J32: =_xlfn.XLOOKUP(J$5, Ingredients!$CC$5:$CL$5, Ingredients!$CC$51:$CL$51, 0) -> 49770 | K32: =_xlfn.XLOOKUP(K$5, Ingredients!$CC$5:$CL$5, Ingredients!$CC$51:$CL$51, 0) -> 49770
B33: DCP | C33: =_xlfn.XLOOKUP(C$5, Ingredients!$CN$5:$CW$5, Ingredients!$CN$51:$CW$51, 0) -> 5116.8 | D33: =_xlfn.XLOOKUP(D$5, Ingredients!$CN$5:$CW$5, Ingredients!$CN$51:$CW$51, 0) -> 6396 | E33: =_xlfn.XLOOKUP(E$5, Ingredients!$CN$5:$CW$5, Ingredients!$CN$51:$CW$51, 0) -> 7035.6 | F33: =_xlfn.XLOOKUP(F$5, Ingredients!$CN$5:$CW$5, Ingredients!$CN$51:$CW$51, 0) -> 7739.16 | G33: =_xlfn.XLOOKUP(G$5, Ingredients!$CN$5:$CW$5, Ingredients!$CN$51:$CW$51, 0) -> 8513.076 | H33: =_xlfn.XLOOKUP(H$5, Ingredients!$CN$5:$CW$5, Ingredients!$CN$51:$CW$51, 0) -> 8938.7298 | I33: =_xlfn.XLOOKUP(I$5, Ingredients!$CN$5:$CW$5, Ingredients!$CN$51:$CW$51, 0) -> 9385.6663 | J33: =_xlfn.XLOOKUP(J$5, Ingredients!$CN$5:$CW$5, Ingredients!$CN$51:$CW$51, 0) -> 9430 | K33: =_xlfn.XLOOKUP(K$5, Ingredients!$CN$5:$CW$5, Ingredients!$CN$51:$CW$51, 0) -> 9430
B34: TUC Global | C34: =SUM(C35:C37) -> 10768 | D34: =SUM(D35:D37) -> 3878.2 | E34: =SUM(E35:E37) -> 1689.3638 | F34: =SUM(F35:F37) -> 0 | G34: =SUM(G35:G37) -> 0 | H34: =SUM(H35:H37) -> 0 | I34: =SUM(I35:I37) -> 0 | J34: =SUM(J35:J37) -> 0 | K34: =SUM(K35:K37) -> 0
B35: TUC | C35: =_xlfn.XLOOKUP(C$5, 'TUC North America'!$D$3:$L$3, 'TUC North America'!$D$38:$L$38, 0) -> 10768 | D35: =_xlfn.XLOOKUP(D$5, 'TUC North America'!$D$3:$L$3, 'TUC North America'!$D$38:$L$38, 0) -> 3878.2 | E35: =_xlfn.XLOOKUP(E$5, 'TUC North America'!$D$3:$L$3, 'TUC North America'!$D$38:$L$38, 0) -> 1689.3638 | F35: =_xlfn.XLOOKUP(F$5, 'TUC North America'!$D$3:$L$3, 'TUC North America'!$D$38:$L$38, 0) -> 0 | G35: =_xlfn.XLOOKUP(G$5, 'TUC North America'!$D$3:$L$3, 'TUC North America'!$D$38:$L$38, 0) -> 0 | H35: =_xlfn.XLOOKUP(H$5, 'TUC North America'!$D$3:$L$3, 'TUC North America'!$D$38:$L$38, 0) -> 0 | I35: =_xlfn.XLOOKUP(I$5, 'TUC North America'!$D$3:$L$3, 'TUC North America'!$D$38:$L$38, 0) -> 0 | J35: =_xlfn.XLOOKUP(J$5, 'TUC North America'!$D$3:$L$3, 'TUC North America'!$D$38:$L$38, 0) -> 0 | K35: =_xlfn.XLOOKUP(K$5, 'TUC North America'!$D$3:$L$3, 'TUC North America'!$D$38:$L$38, 0) -> 0
B36: TUC International (Excl. JV) | C36: =_xlfn.XLOOKUP(C$5, 'TUC International'!$E$3:$M$3, 'TUC International'!$E$54:$M$54, 0) -> 0 | D36: =_xlfn.XLOOKUP(D$5, 'TUC International'!$E$3:$M$3, 'TUC International'!$E$54:$M$54, 0) -> 0 | E36: =_xlfn.XLOOKUP(E$5, 'TUC International'!$E$3:$M$3, 'TUC International'!$E$54:$M$54, 0) -> 0 | F36: =_xlfn.XLOOKUP(F$5, 'TUC International'!$E$3:$M$3, 'TUC International'!$E$54:$M$54, 0) -> 0 | G36: =_xlfn.XLOOKUP(G$5, 'TUC International'!$E$3:$M$3, 'TUC International'!$E$54:$M$54, 0) -> 0 | H36: =_xlfn.XLOOKUP(H$5, 'TUC International'!$E$3:$M$3, 'TUC International'!$E$54:$M$54, 0) -> 0 | I36: =_xlfn.XLOOKUP(I$5, 'TUC International'!$E$3:$M$3, 'TUC International'!$E$54:$M$54, 0) -> 0 | J36: =_xlfn.XLOOKUP(J$5, 'TUC International'!$E$3:$M$3, 'TUC International'!$E$54:$M$54, 0) -> 0 | K36: =_xlfn.XLOOKUP(K$5, 'TUC International'!$E$3:$M$3, 'TUC International'!$E$54:$M$54, 0) -> 0
B37: TUC JV
B38: nth Bio | C38: =SUM(C39:C47) -> 5400 | D38: =SUM(D39:D47) -> 12924 | E38: =SUM(E39:E47) -> 22310.05 | F38: =SUM(F39:F47) -> 43807.395 | G38: =SUM(G39:G47) -> 46072.765 | H38: =SUM(H39:H47) -> 48773.903 | I38: =SUM(I39:I47) -> 51414.348 | J38: =SUM(J39:J47) -> 54547.341 | K38: =SUM(K39:K47) -> 57690.665
B39: SLC Pilot | C39: =_xlfn.XLOOKUP(C$5, 'Nth Bio'!$C$3:$L$3, 'Nth Bio'!$C6:$L6, 0) -> 800 | D39: =_xlfn.XLOOKUP(D$5, 'Nth Bio'!$C$3:$L$3, 'Nth Bio'!$C6:$L6, 0) -> 1600 | E39: =_xlfn.XLOOKUP(E$5, 'Nth Bio'!$C$3:$L$3, 'Nth Bio'!$C6:$L6, 0) -> 2600 | F39: =_xlfn.XLOOKUP(F$5, 'Nth Bio'!$C$3:$L$3, 'Nth Bio'!$C6:$L6, 0) -> 3600 | G39: =_xlfn.XLOOKUP(G$5, 'Nth Bio'!$C$3:$L$3, 'Nth Bio'!$C6:$L6, 0) -> 3780 | H39: =_xlfn.XLOOKUP(H$5, 'Nth Bio'!$C$3:$L$3, 'Nth Bio'!$C6:$L6, 0) -> 3969 | I39: =_xlfn.XLOOKUP(I$5, 'Nth Bio'!$C$3:$L$3, 'Nth Bio'!$C6:$L6, 0) -> 4167.45 | J39: =_xlfn.XLOOKUP(J$5, 'Nth Bio'!$C$3:$L$3, 'Nth Bio'!$C6:$L6, 0) -> 4375.8225 | K39: =_xlfn.XLOOKUP(K$5, 'Nth Bio'!$C$3:$L$3, 'Nth Bio'!$C6:$L6, 0) -> 4594.6136
B40: SBL Pilot | C40: =_xlfn.XLOOKUP(C$5, 'Nth Bio'!$C$3:$L$3, 'Nth Bio'!$C7:$L7, 0) -> 0 | D40: =_xlfn.XLOOKUP(D$5, 'Nth Bio'!$C$3:$L$3, 'Nth Bio'!$C7:$L7, 0) -> 400 | E40: =_xlfn.XLOOKUP(E$5, 'Nth Bio'!$C$3:$L$3, 'Nth Bio'!$C7:$L7, 0) -> 1400 | F40: =_xlfn.XLOOKUP(F$5, 'Nth Bio'!$C$3:$L$3, 'Nth Bio'!$C7:$L7, 0) -> 4800 | G40: =_xlfn.XLOOKUP(G$5, 'Nth Bio'!$C$3:$L$3, 'Nth Bio'!$C7:$L7, 0) -> 5040 | H40: =_xlfn.XLOOKUP(H$5, 'Nth Bio'!$C$3:$L$3, 'Nth Bio'!$C7:$L7, 0) -> 5292 | I40: =_xlfn.XLOOKUP(I$5, 'Nth Bio'!$C$3:$L$3, 'Nth Bio'!$C7:$L7, 0) -> 5556.6 | J40: =_xlfn.XLOOKUP(J$5, 'Nth Bio'!$C$3:$L$3, 'Nth Bio'!$C7:$L7, 0) -> 5834.43 | K40: =_xlfn.XLOOKUP(K$5, 'Nth Bio'!$C$3:$L$3, 'Nth Bio'!$C7:$L7, 0) -> 6126.1515
B41: Pharma Initiative (Sri/Bonney) | C41: =_xlfn.XLOOKUP(C$5, 'Nth Bio Revenue & COGS'!$E$3:$M$3, 'Nth Bio Revenue & COGS'!$E$23:$M$23, 0) -> 0 | D41: =_xlfn.XLOOKUP(D$5, 'Nth Bio Revenue & COGS'!$E$3:$M$3, 'Nth Bio Revenue & COGS'!$E$23:$M$23, 0) -> 0 | E41: =_xlfn.XLOOKUP(E$5, 'Nth Bio Revenue & COGS'!$E$3:$M$3, 'Nth Bio Revenue & COGS'!$E$23:$M$23, 0) -> 3000 | F41: =_xlfn.XLOOKUP(F$5, 'Nth Bio Revenue & COGS'!$E$3:$M$3, 'Nth Bio Revenue & COGS'!$E$23:$M$23, 0) -> 15000 | G41: =_xlfn.XLOOKUP(G$5, 'Nth Bio Revenue & COGS'!$E$3:$M$3, 'Nth Bio Revenue & COGS'!$E$23:$M$23, 0) -> 15750 | H41: =_xlfn.XLOOKUP(H$5, 'Nth Bio Revenue & COGS'!$E$3:$M$3, 'Nth Bio Revenue & COGS'!$E$23:$M$23, 0) -> 16537.5 | I41: =_xlfn.XLOOKUP(I$5, 'Nth Bio Revenue & COGS'!$E$3:$M$3, 'Nth Bio Revenue & COGS'!$E$23:$M$23, 0) -> 17364.375 | J41: =_xlfn.XLOOKUP(J$5, 'Nth Bio Revenue & COGS'!$E$3:$M$3, 'Nth Bio Revenue & COGS'!$E$23:$M$23, 0) -> 18232.594 | K41: =_xlfn.XLOOKUP(K$5, 'Nth Bio Revenue & COGS'!$E$3:$M$3, 'Nth Bio Revenue & COGS'!$E$23:$M$23, 0) -> 19144.223
B42: SLC Ferm Farm | C42: =_xlfn.XLOOKUP(C$5, 'Nth Bio'!$C$3:$L$3, 'Nth Bio'!$C8:$L8, 0) -> 500 | D42: =_xlfn.XLOOKUP(D$5, 'Nth Bio'!$C$3:$L$3, 'Nth Bio'!$C8:$L8, 0) -> 1816 | E42: =_xlfn.XLOOKUP(E$5, 'Nth Bio'!$C$3:$L$3, 'Nth Bio'!$C8:$L8, 0) -> 2763.6 | F42: =_xlfn.XLOOKUP(F$5, 'Nth Bio'!$C$3:$L$3, 'Nth Bio'!$C8:$L8, 0) -> 3801.42 | G42: =_xlfn.XLOOKUP(G$5, 'Nth Bio'!$C$3:$L$3, 'Nth Bio'!$C8:$L8, 0) -> 3991.491 | H42: =_xlfn.XLOOKUP(H$5, 'Nth Bio'!$C$3:$L$3, 'Nth Bio'!$C8:$L8, 0) -> 4191.0656 | I42: =_xlfn.XLOOKUP(I$5, 'Nth Bio'!$C$3:$L$3, 'Nth Bio'!$C8:$L8, 0) -> 4400.6188 | J42: =_xlfn.XLOOKUP(J$5, 'Nth Bio'!$C$3:$L$3, 'Nth Bio'!$C8:$L8, 0) -> 4620.6498 | K42: =_xlfn.XLOOKUP(K$5, 'Nth Bio'!$C$3:$L$3, 'Nth Bio'!$C8:$L8, 0) -> 4851.6823
B43: India Ferm Farm | C43: =_xlfn.XLOOKUP(C$5, 'Nth Bio'!$C$3:$L$3, 'Nth Bio'!$C9:$L9, 0) -> 0 | D43: =_xlfn.XLOOKUP(D$5, 'Nth Bio'!$C$3:$L$3, 'Nth Bio'!$C9:$L9, 0) -> 408 | E43: =_xlfn.XLOOKUP(E$5, 'Nth Bio'!$C$3:$L$3, 'Nth Bio'!$C9:$L9, 0) -> 1285.2 | F43: =_xlfn.XLOOKUP(F$5, 'Nth Bio'!$C$3:$L$3, 'Nth Bio'!$C9:$L9, 0) -> 2249.1 | G43: =_xlfn.XLOOKUP(G$5, 'Nth Bio'!$C$3:$L$3, 'Nth Bio'!$C9:$L9, 0) -> 2361.555 | H43: =_xlfn.XLOOKUP(H$5, 'Nth Bio'!$C$3:$L$3, 'Nth Bio'!$C9:$L9, 0) -> 2479.6328 | I43: =_xlfn.XLOOKUP(I$5, 'Nth Bio'!$C$3:$L$3, 'Nth Bio'!$C9:$L9, 0) -> 2603.6144 | J43: =_xlfn.XLOOKUP(J$5, 'Nth Bio'!$C$3:$L$3, 'Nth Bio'!$C9:$L9, 0) -> 2733.7951 | K43: =_xlfn.XLOOKUP(K$5, 'Nth Bio'!$C$3:$L$3, 'Nth Bio'!$C9:$L9, 0) -> 2870.4849
B44: S2S/uHTS | C44: =_xlfn.XLOOKUP(C$5, 'Nth Bio'!$C$3:$L$3, 'Nth Bio'!$C10:$L10, 0) -> 4100 | D44: =_xlfn.XLOOKUP(D$5, 'Nth Bio'!$C$3:$L$3, 'Nth Bio'!$C10:$L10, 0) -> 4500 | E44: =_xlfn.XLOOKUP(E$5, 'Nth Bio'!$C$3:$L$3, 'Nth Bio'!$C10:$L10, 0) -> 6300 | F44: =_xlfn.XLOOKUP(F$5, 'Nth Bio'!$C$3:$L$3, 'Nth Bio'!$C10:$L10, 0) -> 8268.75 | G44: =_xlfn.XLOOKUP(G$5, 'Nth Bio'!$C$3:$L$3, 'Nth Bio'!$C10:$L10, 0) -> 8682.1875 | H44: =_xlfn.XLOOKUP(H$5, 'Nth Bio'!$C$3:$L$3, 'Nth Bio'!$C10:$L10, 0) -> 9116.2969 | I44: =_xlfn.XLOOKUP(I$5, 'Nth Bio'!$C$3:$L$3, 'Nth Bio'!$C10:$L10, 0) -> 9572.1117 | J44: =_xlfn.XLOOKUP(J$5, 'Nth Bio'!$C$3:$L$3, 'Nth Bio'!$C10:$L10, 0) -> 10050.717 | K44: =_xlfn.XLOOKUP(K$5, 'Nth Bio'!$C$3:$L$3, 'Nth Bio'!$C10:$L10, 0) -> 10553.253
B45: License | C45: =_xlfn.XLOOKUP(C$5, 'Nth Bio'!$C$3:$L$3, 'Nth Bio'!$C11:$L11, 0) -> 0 | D45: =_xlfn.XLOOKUP(D$5, 'Nth Bio'!$C$3:$L$3, 'Nth Bio'!$C11:$L11, 0) -> 2625 | E45: =_xlfn.XLOOKUP(E$5, 'Nth Bio'!$C$3:$L$3, 'Nth Bio'!$C11:$L11, 0) -> 2756.25 | F45: =_xlfn.XLOOKUP(F$5, 'Nth Bio'!$C$3:$L$3, 'Nth Bio'!$C11:$L11, 0) -> 2894.0625 | G45: =_xlfn.XLOOKUP(G$5, 'Nth Bio'!$C$3:$L$3, 'Nth Bio'!$C11:$L11, 0) -> 3038.7656 | H45: =_xlfn.XLOOKUP(H$5, 'Nth Bio'!$C$3:$L$3, 'Nth Bio'!$C11:$L11, 0) -> 3190.7039 | I45: =_xlfn.XLOOKUP(I$5, 'Nth Bio'!$C$3:$L$3, 'Nth Bio'!$C11:$L11, 0) -> 3350.2391 | J45: =_xlfn.XLOOKUP(J$5, 'Nth Bio'!$C$3:$L$3, 'Nth Bio'!$C11:$L11, 0) -> 3517.7511 | K45: =_xlfn.XLOOKUP(K$5, 'Nth Bio'!$C$3:$L$3, 'Nth Bio'!$C11:$L11, 0) -> 3693.6386
B46: Milestone | C46: =_xlfn.XLOOKUP(C$5, 'Nth Bio'!$C$3:$L$3, 'Nth Bio'!$C12:$L12, 0) -> 0 | D46: =_xlfn.XLOOKUP(D$5, 'Nth Bio'!$C$3:$L$3, 'Nth Bio'!$C12:$L12, 0) -> 1575 | E46: =_xlfn.XLOOKUP(E$5, 'Nth Bio'!$C$3:$L$3, 'Nth Bio'!$C12:$L12, 0) -> 2205 | F46: =_xlfn.XLOOKUP(F$5, 'Nth Bio'!$C$3:$L$3, 'Nth Bio'!$C12:$L12, 0) -> 2894.0625 | G46: =_xlfn.XLOOKUP(G$5, 'Nth Bio'!$C$3:$L$3, 'Nth Bio'!$C12:$L12, 0) -> 3038.7656 | H46: =_xlfn.XLOOKUP(H$5, 'Nth Bio'!$C$3:$L$3, 'Nth Bio'!$C12:$L12, 0) -> 3190.7039 | I46: =_xlfn.XLOOKUP(I$5, 'Nth Bio'!$C$3:$L$3, 'Nth Bio'!$C12:$L12, 0) -> 3350.2391 | J46: =_xlfn.XLOOKUP(J$5, 'Nth Bio'!$C$3:$L$3, 'Nth Bio'!$C12:$L12, 0) -> 3517.7511 | K46: =_xlfn.XLOOKUP(K$5, 'Nth Bio'!$C$3:$L$3, 'Nth Bio'!$C12:$L12, 0) -> 3693.6386
...

Sheet Unit Economies
B1: Perfect Day Group
B2: Unit Economics
B4: =Ingredients!$D$3 -> 0 | J4: =Ingredients!$AK$3 -> Brazzein | R4: LAA
B26: ('$m) | C26: ='PD Global'!#REF! -> #REF! | D26: ='PD Global'!C5 -> 2023 | E26: ='PD Global'!D5 -> 2024 | F26: ='PD Global'!E5 -> 2025 | G26: ='PD Global'!F5 -> 2026 | H26: =$C$26&" - "&$G$26 -> #REF! | J26: =$B26 -> ('$m) | K26: =$C26 -> #REF! | L26: =$D26 -> 2023 | M26: =$E26 -> 2024 | N26: =$F26 -> 2025 | O26: =$G26 -> 2026 | P26: =$H26 -> #REF! | R26: =$B$26 -> ('$m) | S26: =$C$26 -> #REF! | T26: =$D$26 -> 2023 | U26: =$E$26 -> 2024 | V26: =$F$26 -> 2025 | W26: =$G$26 -> 2026 | X26: =$H$26 -> #REF!
B27: =B4&" Sales Volume (MT)" -> 0 Sales Volume (MT) | C27: =Ingredients!D$42 -> 0 | D27: =Ingredients!E$42 -> 437.57534 | E27: =Ingredients!F$42 -> 1122.411 | F27: =Ingredients!G$42 -> 1896.0827 | G27: =Ingredients!H$42 -> 3728.3688 | H27: =SUM(C27:G27) -> 7184.4378 | J27: =J4&" Sales Volume (MT)" -> Brazzein Sales Volume (MT) | K27: =Ingredients!AK$42 -> 0 | L27: =Ingredients!AL$42 -> 0 | M27: =Ingredients!AM$42 -> 0 | N27: =Ingredients!AN$42 -> 0.58493151 | O27: =Ingredients!AO$42 -> 3.5671233 | P27: =SUM(K27:O27) -> 4.1520548 | R27: =R4&" Sales Volume (MT)" -> LAA Sales Volume (MT) | S27: =Ingredients!AV$42 -> 0 | T27: =Ingredients!AW$42 -> 0 | U27: =Ingredients!AX$42 -> 0 | V27: =Ingredients!AY$42 -> 0 | W27: =Ingredients!AZ$42 -> 0 | X27: =SUM(S27:W27) -> 0
B28: Rev per Kg | C28: =Ingredients!D48 -> 0 | D28: =Ingredients!E48 -> 21.42 | E28: =Ingredients!F48 -> 18.5 | F28: =Ingredients!G48 -> 17.05 | G28: =Ingredients!H48 -> 15.4 | H28: =AVERAGE(C28:G28) -> 14.474 | J28: =$B$28 -> Rev per Kg | K28: =Ingredients!AK$48 -> 0 | L28: =Ingredients!AL$48 -> 0 | M28: =Ingredients!AM$48 -> 0 | N28: =Ingredients!AN$48 -> 500 | O28: =Ingredients!AO$48 -> 500 | P28: =AVERAGE(K28:O28) -> 200 | R28: =$B$28 -> Rev per Kg | S28: =Ingredients!AV$48 -> 0 | T28: =Ingredients!AW$48 -> 0 | U28: =Ingredients!AX$48 -> 0 | V28: =Ingredients!AY$48 -> 0 | W28: =Ingredients!AZ$48 -> 0 | X28: =AVERAGE(S28:W28) -> 0
B29: Cost per Kg | C29: =Ingredients!D49 -> 0 | D29: =Ingredients!E49 -> 81.694853 | E29: =Ingredients!F49 -> 42.91208 | F29: =Ingredients!G49 -> 26.10822 | G29: =Ingredients!H49 -> 16.782702 | H29: =AVERAGE(C29:G29) -> 33.499571 | J29: =$B$29 -> Cost per Kg | K29: =Ingredients!AK$49 -> 0 | L29: =Ingredients!AL$49 -> 0 | M29: =Ingredients!AM$49 -> 0 | N29: =Ingredients!AN$49 -> 500 | O29: =Ingredients!AO$49 -> 400 | P29: =AVERAGE(K29:O29) -> 180 | R29: =$B$29 -> Cost per Kg | S29: =Ingredients!AV$49 -> 0 | T29: =Ingredients!AW$49 -> 0 | U29: =Ingredients!AX$49 -> 0 | V29: =Ingredients!AY$49 -> 0 | W29: =Ingredients!AZ$49 -> 0 | X29: =AVERAGE(S29:W29) -> 0
B31: Cost per unit decreases as we build scale. Average cost per Kg in 2021 at $68 reducing to $7 in 2025 driven by oncoming capacity with key JV plant builds in Asia
B32: along with US capacity coming on in 2024 and 2025 with key partners
B34: =Ingredients!$BG$3 -> Masar Lovo | J34: =Ingredients!$CC$3 -> Gelatin (India) | R34: =Ingredients!$CN$3 -> DCP (India)
B56: =$B$26 -> ('$m) | C56: =$C$26 -> #REF! | D56: =$D$26 -> 2023 | E56: =$E$26 -> 2024 | F56: =$F$26 -> 2025 | G56: =$G$26 -> 2026 | H56: =$H$26 -> #REF! | J56: =$B$26 -> ('$m) | K56: =$C$26 -> #REF! | L56: =$D$26 -> 2023 | M56: =$E$26 -> 2024 | N56: =$F$26 -> 2025 | O56: =$G$26 -> 2026 | P56: =$H$26 -> #REF! | R56: =$B$26 -> ('$m) | S56: =$C$26 -> #REF! | T56: =$D$26 -> 2023 | U56: =$E$26 -> 2024 | V56: =$F$26 -> 2025 | W56: =$G$26 -> 2026 | X56: =$H$26 -> #REF!
B57: =B34&" Sales Volume (MT)" -> Masar Lovo Sales Volume (MT) | C57: =Ingredients!BG$42 -> 0 | D57: =Ingredients!BH$42 -> 196 | E57: =Ingredients!BI$42 -> 199.92 | F57: =Ingredients!BJ$42 -> 203.9184 | G57: =Ingredients!BK$42 -> 207.99677 | H57: =SUM(C57:G57) -> 807.83517 | J57: =J34&" Sales Volume (MT)" -> Gelatin (India) Sales Volume (MT) | K57: =Ingredients!CC$42 -> 0 | L57: =Ingredients!CD$42 -> 3500 | M57: =Ingredients!CE$42 -> 4375 | N57: =Ingredients!CF$42 -> 4812.5 | O57: =Ingredients!CG$42 -> 5293.75 | P57: =SUM(K57:O57) -> 17981.25 | R57: =R34&" Sales Volume (MT)" -> DCP (India) Sales Volume (MT) | S57: =Ingredients!CN$42 -> 0 | T57: =Ingredients!CO$42 -> 12480 | U57: =Ingredients!CP$42 -> 15600 | V57: =Ingredients!CQ$42 -> 17160 | W57: =Ingredients!CR$42 -> 18876 | X57: =SUM(S57:W57) -> 64116
B58: =$B$28 -> Rev per Kg | C58: =Ingredients!BG$48 -> 0 | D58: =Ingredients!BH$48 -> 45.918367 | E58: =Ingredients!BI$48 -> 45.918367 | F58: =Ingredients!BJ$48 -> 45.918367 | G58: =Ingredients!BK$48 -> 45.918367 | H58: =AVERAGE(C58:G58) -> 36.734694 | J58: =$B$28 -> Rev per Kg | K58: =Ingredients!CC$48 -> 0 | L58: =Ingredients!CD$48 -> 7.9 | M58: =Ingredients!CE$48 -> 7.9 | N58: =Ingredients!CF$48 -> 7.9 | O58: =Ingredients!CG$48 -> 7.9 | P58: =AVERAGE(K58:O58) -> 6.32 | R58: =$B$28 -> Rev per Kg | S58: =Ingredients!CN$48 -> 0 | T58: =Ingredients!CO$48 -> 0.41 | U58: =Ingredients!CP$48 -> 0.41 | V58: =Ingredients!CQ$48 -> 0.41 | W58: =Ingredients!CR$48 -> 0.41 | X58: =AVERAGE(S58:W58) -> 0.328
B59: =$B$29 -> Cost per Kg | C59: =Ingredients!BG$49 -> 0 | D59: =Ingredients!BH$49 -> 29.85 | E59: =Ingredients!BI$49 -> 29.85 | F59: =Ingredients!BJ$49 -> 29.85 | G59: =Ingredients!BK$49 -> 29.85 | H59: =AVERAGE(C59:G59) -> 23.88 | J59: =$B$29 -> Cost per Kg | K59: =Ingredients!CC$49 -> 0 | L59: =Ingredients!CD$49 -> 5.14 | M59: =Ingredients!CE$49 -> 5.14 | N59: =Ingredients!CF$49 -> 5.14 | O59: =Ingredients!CG$49 -> 5.14 | P59: =AVERAGE(K59:O59) -> 4.112 | R59: =$B$29 -> Cost per Kg | S59: =Ingredients!CN$49 -> 0 | T59: =Ingredients!CO$49 -> 0.27 | U59: =Ingredients!CP$49 -> 0.27 | V59: =Ingredients!CQ$49 -> 0.27 | W59: =Ingredients!CR$49 -> 0.27 | X59: =AVERAGE(S59:W59) -> 0.216

Sheet WPI Historical Prices
B1: WPI Historical Prices
D3: 2016 | F3: 2017 | J3: 2018 | N3: 2019 | R3: 2020 | V3: 2021 | Z3: 2022 | AD3: 2023
D4: Q3 | E4: Q4 | F4: Q1 | G4: Q2 | H4: Q3 | I4: Q4 | J4: Q1 | K4: Q2 | L4: Q3 | M4: Q4 | N4: Q1 | O4: Q2 | P4: Q3 | Q4: Q4 | R4: Q1 | S4: Q2 | T4: Q3 | U4: Q4 | V4: Q1 | W4: Q2 | X4: Q3 | Y4: Q4 | Z4: Q1 | AA4: Q2 | AB4: Q3 | AC4: Q4 | AD4: Q1
C5: Standard WPI ($/kg) | D5: 9.4772 | E5: 9.6976 | F5: 9.6976 | G5: 9.4772 | H5: 9.1466 | I5: 8.7058 | J5: 7.6038 | K5: 6.2814 | L5: 6.061 | M5: 5.8406 | N5: 6.9426 | O5: 7.8242 | P5: 7.8242 | Q5: 6.7222 | R5: 6.612 | S5: 7.0528 | T5: 6.2814 | U5: 5.51 | V5: 6.061 | W5: 8.3752 | X5: 12.0118 | Y5: 14.5464 | Z5: 16.9708 | AA5: 17.4116 | AB5: 13.224 | AC5: 11.9016 | AD5: 7.714
C6: Instant WPI ($/kg) | D6: 9.6976 | E6: 9.918 | F6: 9.918 | G6: 9.6976 | H6: 9.367 | I6: 8.9262 | J6: 7.8242 | K6: 6.5018 | L6: 6.2814 | M6: 6.061 | N6: 7.163 | O6: 8.0446 | P6: 8.0446 | Q6: 6.9426 | R6: 6.8324 | S6: 7.2732 | T6: 6.5018 | U6: 5.7304 | V6: 6.2814 | W6: 8.5956 | X6: 12.2322 | Y6: 14.7668 | Z6: 17.1912 | AA6: 17.632 | AB6: 13.4444 | AC6: 12.122 | AD6: 7.714

Sheet Balance Sheet
B1: Perfect Day Group
B2: Balance Sheet
B4: (in Millions) | E4: Series E
B5: Perfect Day Consolidated | E5: 2022 | F5: =+E5+1 -> 2023 | G5: =+F5+1 -> 2024 | H5: =+G5+1 -> 2025 | I5: =+H5+1 -> 2026 | J5: =+I5+1 -> 2027 | K5: =+J5+1 -> 2028 | L5: =+K5+1 -> 2029 | M5: =+L5+1 -> 2030 | N5: =+M5+1 -> 2031
B6: Assets
C7: Current Assets
D8: Cash & Equivalents | E8: =E$57 - SUM(E$28, E$33, E$35, E$9, E$10, E$11, E$12) -> 175.2 | F8: =F$57 - SUM(F$28, F$33, F$35, F$9, F$10, F$11, F$12) -> 482.41312 | G8: =G$57 - SUM(G$28, G$33, G$35, G$9, G$10, G$11, G$12) -> 300.04098 | H8: =H$57 - SUM(H$28, H$33, H$35, H$9, H$10, H$11, H$12) -> 81.799464 | I8: =I$57 - SUM(I$28, I$33, I$35, I$9, I$10, I$11, I$12) -> 84.23392 | J8: =J$57 - SUM(J$28, J$33, J$35, J$9, J$10, J$11, J$12) -> 87.71153 | K8: =K$57 - SUM(K$28, K$33, K$35, K$9, K$10, K$11, K$12) -> 162.60034 | L8: =L$57 - SUM(L$28, L$33, L$35, L$9, L$10, L$11, L$12) -> 205.44967 | ... N8: =N$57 - SUM(N$28, N$33, N$35, N$9, N$10, N$11, N$12) -> 452.01108
D9: A/R | E9: 8.1 | F9: =F$76 -> 7.7369495 | G9: =G$76 -> 8.7320822 | H9: =H$76 -> 11.857649 | I9: =I$76 -> 26.743151 | J9: =J$76 -> 45.190137 | K9: =K$76 -> 49.893719 | L9: =L$76 -> 53.364931 | M9: =M$76 -> 54.866177 | N9: =N$76 -> 55.409424
D10: Inventory | E10: 12.2 | F10: =F71 -> 5.9878296 | G10: =G71 -> 6.9091885 | H10: =H71 -> 8.8305662 | I10: =I71 -> 13.775537 | J10: =J71 -> 12.97391 | K10: =K71 -> 14.770147 | L10: =L71 -> 15.706343 | M10: =M71 -> 16.204524 | N10: =N71 -> 16.267306
D11: Prepaid Expenses | E11: 4.2 | F11: =E11 -> 4.2 | G11: =F11 -> 4.2 | H11: =G11 -> 4.2 | I11: =H11 -> 4.2 | J11: =I11 -> 4.2 | K11: =J11 -> 4.2 | L11: =K11 -> 4.2 | M11: =L11 -> 4.2 | N11: =M11 -> 4.2
D12: Other CA | E12: 65 | F12: =E12 -> 65 | G12: =F12 -> 65 | H12: =G12 -> 65 | I12: =H12 -> 65 | J12: =I12 -> 65 | K12: =J12 -> 65 | L12: =K12 -> 65 | M12: =L12 -> 65 | N12: =M12 -> 65
C13: Total Current Assets | E13: =SUM(E8:E12) -> 264.7 | F13: =SUM(F8:F12) -> 565.3379 | G13: =SUM(G8:G12) -> 384.88225 | H13: =SUM(H8:H12) -> 171.68768 | I13: =SUM(I8:I12) -> 193.95261 | J13: =SUM(J8:J12) -> 215.07558 | K13: =SUM(K8:K12) -> 296.46421 | L13: =SUM(L8:L12) -> 343.72094 | ... N13: =SUM(N8:N12) -> 592.88781
C15: Fixed Assets | H15: =H17-F17 -> 21.658
D16: Existing Fixed Assets | E16: 82.2 | F16: =E16 -> 82.2 | G16: =F16 -> 82.2 | H16: =G16 -> 82.2 | I16: =H16 -> 82.2 | J16: =I16 -> 82.2 | K16: =J16 -> 82.2 | L16: =K16 -> 82.2 | M16: =L16 -> 82.2 | N16: =M16 -> 82.2
D17: R&D | F17: =SUM('CAPEX & Financing'!G$28:G$30,'CAPEX & Financing'!G$32) + E$17 -> 5 | G17: =SUM('CAPEX & Financing'!H$28:H$30,'CAPEX & Financing'!H$32) + F$17 -> 17.16 | H17: =SUM('CAPEX & Financing'!I$28:I$30,'CAPEX & Financing'!I$32) + G$17 -> 26.658 | I17: =SUM('CAPEX & Financing'!J$28:J$30,'CAPEX & Financing'!J$32) + H$17 -> 35.995 | J17: =SUM('CAPEX & Financing'!K$28:K$30,'CAPEX & Financing'!K$32) + I$17 -> 37.495 | K17: =SUM('CAPEX & Financing'!L$28:L$30,'CAPEX & Financing'!L$32) + J$17 -> 38.995 | L17: =SUM('CAPEX & Financing'!M$28:M$30,'CAPEX & Financing'!M$32) + K$17 -> 40.495 | M17: =SUM('CAPEX & Financing'!N$28:N$30,'CAPEX & Financing'!N$32) + L$17 -> 41.995 | N17: =SUM('CAPEX & Financing'!O$28:O$30,'CAPEX & Financing'!O$32) + M$17 -> 43.495
D18: SBF | F18: ='CAPEX & Financing'!G$31 + E$18 -> 5 | G18: ='CAPEX & Financing'!H$31 + F$18 -> 9 | H18: ='CAPEX & Financing'!I$31 + G$18 -> 13 | I18: ='CAPEX & Financing'!J$31 + H$18 -> 15 | J18: ='CAPEX & Financing'!K$31 + I$18 -> 15 | K18: ='CAPEX & Financing'!L$31 + J$18 -> 15 | L18: ='CAPEX & Financing'!M$31 + K$18 -> 15 | M18: ='CAPEX & Financing'!N$31 + L$18 -> 15 | N18: ='CAPEX & Financing'!O$31 + M$18 -> 15
D19: Zebu 400 | F19: ='CAPEX & Financing'!G33 + E19 -> 0 | G19: ='CAPEX & Financing'!H33 + F19 -> 0 | H19: ='CAPEX & Financing'!I33 + G19 -> 0 | I19: ='CAPEX & Financing'!J33 + H19 -> 0 | J19: ='CAPEX & Financing'!K33 + I19 -> 0 | K19: ='CAPEX & Financing'!L33 + J19 -> 0 | L19: ='CAPEX & Financing'!M33 + K19 -> 0 | M19: ='CAPEX & Financing'!N33 + L19 -> 0 | N19: ='CAPEX & Financing'!O33 + M19 -> 0
D20: Zebu 1000 | F20: ='CAPEX & Financing'!G34 + E20 -> 71 | G20: ='CAPEX & Financing'!H34 + F20 -> 71 | H20: ='CAPEX & Financing'!I34 + G20 -> 71 | I20: ='CAPEX & Financing'!J34 + H20 -> 71 | J20: ='CAPEX & Financing'!K34 + I20 -> 71 | K20: ='CAPEX & Financing'!L34 + J20 -> 71 | L20: ='CAPEX & Financing'!M34 + K20 -> 71 | M20: ='CAPEX & Financing'!N34 + L20 -> 71 | N20: ='CAPEX & Financing'!O34 + M20 -> 71
D21: Zebu 1500 | F21: ='CAPEX & Financing'!G35 + E21 -> 0 | G21: ='CAPEX & Financing'!H35 + F21 -> 0 | H21: ='CAPEX & Financing'!I35 + G21 -> 0 | I21: ='CAPEX & Financing'!J35 + H21 -> 0 | J21: ='CAPEX & Financing'!K35 + I21 -> 0 | K21: ='CAPEX & Financing'!L35 + J21 -> 0 | L21: ='CAPEX & Financing'!M35 + K21 -> 0 | M21: ='CAPEX & Financing'!N35 + L21 -> 0 | N21: ='CAPEX & Financing'!O35 + M21 -> 0
D22: Project Pele | F22: ='CAPEX & Financing'!G36 + E22 -> 69.944014 | G22: ='CAPEX & Financing'!H36 + F22 -> 174.86004 | H22: ='CAPEX & Financing'!I36 + G22 -> 349.72007 | I22: ='CAPEX & Financing'!J36 + H22 -> 423.91727 | J22: ='CAPEX & Financing'!K36 + I22 -> 463.46447 | K22: ='CAPEX & Financing'!L36 + J22 -> 478.11167 | L22: ='CAPEX & Financing'!M36 + K22 -> 482.75887 | M22: ='CAPEX & Financing'!N36 + L22 -> 487.40607 | N22: ='CAPEX & Financing'!O36 + M22 -> 492.05327
D23: Project Eureka | F23: ='CAPEX & Financing'!G$37 + E23 -> 0 | G23: ='CAPEX & Financing'!H$37 + F23 -> 48.73323 | H23: ='CAPEX & Financing'!I$37 + G23 -> 99.9656 | I23: ='CAPEX & Financing'!J$37 + H23 -> 124.957 | J23: ='CAPEX & Financing'!K$37 + I23 -> 126.20657 | K23: ='CAPEX & Financing'!L$37 + J23 -> 127.45614 | L23: ='CAPEX & Financing'!M$37 + K23 -> 128.70571 | M23: ='CAPEX & Financing'!N$37 + L23 -> 129.95528 | N23: ='CAPEX & Financing'!O$37 + M23 -> 131.20485
D24: SLC | F24: ='CAPEX & Financing'!G$38 + E$24 -> 20 | G24: ='CAPEX & Financing'!H$38 + F$24 -> 20 | H24: ='CAPEX & Financing'!I$38 + G$24 -> 20 | I24: ='CAPEX & Financing'!J$38 + H$24 -> 20 | J24: ='CAPEX & Financing'!K$38 + I$24 -> 20 | K24: ='CAPEX & Financing'!L$38 + J$24 -> 20 | L24: ='CAPEX & Financing'!M$38 + K$24 -> 20 | M24: ='CAPEX & Financing'!N$38 + L$24 -> 20 | N24: ='CAPEX & Financing'!O$38 + M$24 -> 20
D25: Project Playground | F25: ='CAPEX & Financing'!G$39 + E25 -> 0 | G25: ='CAPEX & Financing'!H$39 + F25 -> 44.716768 | H25: ='CAPEX & Financing'!I$39 + G25 -> 91.726705 | I25: ='CAPEX & Financing'!J$39 + H25 -> 114.65838 | J25: ='CAPEX & Financing'!K$39 + I25 -> 127.16746 | K25: ='CAPEX & Financing'!L$39 + J25 -> 142.31405 | L25: ='CAPEX & Financing'!M$39 + K25 -> 143.71063 | M25: ='CAPEX & Financing'!N$39 + L25 -> 145.10722 | N25: ='CAPEX & Financing'!O$39 + M25 -> 146.5038
D26: Vege | F26: ='CAPEX & Financing'!G$40 + E26 -> 0 | G26: ='CAPEX & Financing'!H$40 + F26 -> 0 | H26: ='CAPEX & Financing'!I$40 + G26 -> 0 | I26: ='CAPEX & Financing'!J$40 + H26 -> 0 | J26: ='CAPEX & Financing'!K$40 + I26 -> 0 | K26: ='CAPEX & Financing'!L$40 + J26 -> 0 | L26: ='CAPEX & Financing'!M$40 + K26 -> 0 | M26: ='CAPEX & Financing'!N$40 + L26 -> 0 | N26: ='CAPEX & Financing'!O$40 + M26 -> 0
D27: Accum. Depreciation | F27: =-'CAPEX & Financing'!G$64 -> -15.066667 | G27: =-'CAPEX & Financing'!H$64 -> -39.749333 | H27: =-'CAPEX & Financing'!I$64 -> -94.429805 | I27: =-'CAPEX & Financing'!J$64 -> -183.42491 | J27: =-'CAPEX & Financing'!K$64 -> -284.95767 | K27: =-'CAPEX & Financing'!L$64 -> -397.71977 | L27: =-'CAPEX & Financing'!M$64 -> -519.21119 | M27: =-'CAPEX & Financing'!N$64 -> -649.43194 | N27: =-'CAPEX & Financing'!O$64 -> -788.38202
C28: Total Fixed Assets | E28: =SUM(E16:E27) -> 82.2 | F28: =SUM(F16:F27) -> 238.07735 | G28: =SUM(G16:G27) -> 427.9207 | H28: =SUM(H16:H27) -> 659.84057 | I28: =SUM(I16:I27) -> 704.30275 | J28: =SUM(J16:J27) -> 657.57583 | K28: =SUM(K16:K27) -> 577.3571 | L28: =SUM(L16:L27) -> 464.65903 | ... N28: =SUM(N16:N27) -> 213.0749
C30: Investments
D31: Acquisitions | E31: 4.8 | F31: ='CAPEX & Financing'!G$25 + E$31 -> 4.8 | G31: ='CAPEX & Financing'!H$25 + F$31 -> 4.8 | H31: ='CAPEX & Financing'!I$25 + G$31 -> 4.8 | I31: ='CAPEX & Financing'!J$25 + H$31 -> 4.8 | J31: ='CAPEX & Financing'!K$25 + I$31 -> 4.8 | K31: ='CAPEX & Financing'!L$25 + J$31 -> 4.8 | L31: ='CAPEX & Financing'!M$25 + K$31 -> 4.8 | M31: ='CAPEX & Financing'!N$25 + L$31 -> 4.8 | N31: ='CAPEX & Financing'!O$25 + M$31 -> 4.8
D32: Other Investments | E32: 3.3 | F32: =E32 -> 3.3 | G32: =F32 -> 3.3 | H32: =G32 -> 3.3 | I32: =H32 -> 3.3 | J32: =I32 -> 3.3 | K32: =J32 -> 3.3 | L32: =K32 -> 3.3 | M32: =L32 -> 3.3 | N32: =M32 -> 3.3
C33: Total Investments | E33: =SUM(E31:E32) -> 8.1 | F33: =SUM(F31:F32) -> 8.1 | G33: =SUM(G31:G32) -> 8.1 | H33: =SUM(H31:H32) -> 8.1 | I33: =SUM(I31:I32) -> 8.1 | J33: =SUM(J31:J32) -> 8.1 | K33: =SUM(K31:K32) -> 8.1 | L33: =SUM(L31:L32) -> 8.1 | ... N33: =SUM(N31:N32) -> 8.1
C35: Other Assets | E35: 37.3 | F35: =E35 -> 37.3 | G35: =F35 -> 37.3 | H35: =G35 -> 37.3 | I35: =H35 -> 37.3 | J35: =I35 -> 37.3 | K35: =J35 -> 37.3 | L35: =K35 -> 37.3 | M35: =L35 -> 37.3 | N35: =M35 -> 37.3
B37: Total Assets | E37: =E13+E28+E33+E35 -> 392.3 | F37: =F13+F28+F33+F35 -> 848.81524 | G37: =G13+G28+G33+G35 -> 858.20295 | H37: =H13+H28+H33+H35 -> 876.92825 | I37: =I13+I28+I33+I35 -> 943.65535 | J37: =J13+J28+J33+J35 -> 918.05141 | K37: =K13+K28+K33+K35 -> 919.22131 | L37: =L13+L28+L33+L35 -> 853.77997 | ... N37: =N13+N28+N33+N35 -> 851.36271
B39: Liabilities & Equity
C40: Current Liabilities
D41: A/P | E41: 6.3 | F41: =F81 -> 17.063632 | G41: =G81 -> 16.418116 | H41: =H81 -> 19.767329 | I41: =I81 -> 31.881497 | J41: =J81 -> 45.650647 | K41: =K81 -> 51.246973 | L41: =L81 -> 54.221628 | M41: =M81 -> 55.918821 | N41: =N81 -> 56.377659
D42: Other CL | E42: =36.2-E41 -> 29.9 | F42: =E42 -> 29.9 | G42: =F42 -> 29.9 | H42: =G42 -> 29.9 | I42: =H42 -> 29.9 | J42: =I42 -> 29.9 | K42: =J42 -> 29.9 | L42: =K42 -> 29.9 | M42: =L42 -> 29.9 | N42: =M42 -> 29.9
C43: Total Current Liabilities | E43: =SUM(E41:E42) -> 36.2 | F43: =SUM(F41:F42) -> 46.963632 | G43: =SUM(G41:G42) -> 46.318116 | H43: =SUM(H41:H42) -> 49.667329 | I43: =SUM(I41:I42) -> 61.781497 | J43: =SUM(J41:J42) -> 75.550647 | K43: =SUM(K41:K42) -> 81.146973 | L43: =SUM(L41:L42) -> 84.121628 | ... N43: =SUM(N41:N42) -> 86.277659
C45: Long Term Liabilities
D46: Operating Lease | E46: 35.6 | F46: =E46 -> 35.6 | G46: =F46 -> 35.6 | H46: =G46 -> 35.6 | I46: =H46 -> 35.6 | J46: =I46 -> 35.6 | K46: =J46 -> 35.6 | L46: =K46 -> 35.6 | M46: =L46 -> 35.6 | N46: =M46 -> 35.6
D47: Other Long Term Liabilities | E47: =56.5-E46 -> 20.9 | F47: =E47 -> 20.9 | G47: =F47 -> 20.9 | H47: =G47 -> 20.9 | I47: =H47 -> 20.9 | J47: =I47 -> 20.9 | K47: =J47 -> 20.9 | L47: =K47 -> 20.9 | M47: =L47 -> 20.9 | N47: =M47 -> 20.9
...

Sheet CAPEX & Financing
B1: Perfect Day Group
B2: CAPEX & Financing Plan
B4: (in Millions) | F4: Series E
B5: Perfect Day Consolidated | E5: =F5-1 -> 2021 | F5: 2022 | G5: =+F5+1 -> 2023 | H5: =+G5+1 -> 2024 | I5: =+H5+1 -> 2025 | J5: =+I5+1 -> 2026 | K5: =+J5+1 -> 2027 | L5: =+K5+1 -> 2028 | M5: =+L5+1 -> 2029 | N5: =+M5+1 -> 2030 | O5: =+N5+1 -> 2031
B7: CAPEX & Depreciation
C8: Acquisitions
C25: Total Acquisitions | E25: =SUM(E9:E24) -> 0 | F25: =SUM(F9:F24) -> 0 | G25: =SUM(G9:G24) -> 0 | H25: =SUM(H9:H24) -> 0 | I25: =SUM(I9:I24) -> 0 | J25: =SUM(J9:J24) -> 0 | K25: =SUM(K9:K24) -> 0 | L25: =SUM(L9:L24) -> 0 | ... N25: =SUM(N9:N24) -> 0
C27: CAPEX
D28: India Ferm Farm | G28: 2 | H28: 1.44 | I28: 0.749 | J28: 1.558
D29: SLC Ferm Farm | G29: 2 | H29: 0.72 | I29: 0.749 | J29: 0.779
D30: SLC Pilot | G30: 0.5 | H30: 3 | I30: 1
D31: SBL Pilot | G31: 5 | H31: 4 | I31: 4 | J31: 2
D32: Other R&D | G32: 0.5 | H32: 7 | I32: 7 | J32: 7 | K32: 1.5 | L32: 1.5 | M32: 1.5 | N32: 1.5 | O32: 1.5
D33: Zebu 400
D34: Zebu 1000 | G34: 71
D35: Zebu 1500
D36: Project Pele | G36: =(_xlfn.XLOOKUP(G$5, 'Project Pele ROI'!$F$29:$AL$29, 'Project Pele ROI'!$F$32:$AL$32, 0) + _xlfn.XLOOKUP(G$5, 'Project Pele ROI'!$F$29:$AL$29, 'Project Pele ROI'!$F$36:$AL$36, 0)) / 1000 -> 69.944014 | H36: =(_xlfn.XLOOKUP(H$5, 'Project Pele ROI'!$F$29:$AL$29, 'Project Pele ROI'!$F$32:$AL$32, 0) + _xlfn.XLOOKUP(H$5, 'Project Pele ROI'!$F$29:$AL$29, 'Project Pele ROI'!$F$36:$AL$36, 0)) / 1000 -> 104.91602 | I36: =(_xlfn.XLOOKUP(I$5, 'Project Pele ROI'!$F$29:$AL$29, 'Project Pele ROI'!$F$32:$AL$32, 0) + _xlfn.XLOOKUP(I$5, 'Project Pele ROI'!$F$29:$AL$29, 'Project Pele ROI'!$F$36:$AL$36, 0)) / 1000 -> 174.86004 | J36: =(_xlfn.XLOOKUP(J$5, 'Project Pele ROI'!$F$29:$AL$29, 'Project Pele ROI'!$F$32:$AL$32, 0) + _xlfn.XLOOKUP(J$5, 'Project Pele ROI'!$F$29:$AL$29, 'Project Pele ROI'!$F$36:$AL$36, 0)) / 1000 -> 74.197201 | K36: =(_xlfn.XLOOKUP(K$5, 'Project Pele ROI'!$F$29:$AL$29, 'Project Pele ROI'!$F$32:$AL$32, 0) + _xlfn.XLOOKUP(K$5, 'Project Pele ROI'!$F$29:$AL$29, 'Project Pele ROI'!$F$36:$AL$36, 0)) / 1000 -> 39.547201 | L36: =(_xlfn.XLOOKUP(L$5, 'Project Pele ROI'!$F$29:$AL$29, 'Project Pele ROI'!$F$32:$AL$32, 0) + _xlfn.XLOOKUP(L$5, 'Project Pele ROI'!$F$29:$AL$29, 'Project Pele ROI'!$F$36:$AL$36, 0)) / 1000 -> 14.647201 | M36: =(_xlfn.XLOOKUP(M$5, 'Project Pele ROI'!$F$29:$AL$29, 'Project Pele ROI'!$F$32:$AL$32, 0) + _xlfn.XLOOKUP(M$5, 'Project Pele ROI'!$F$29:$AL$29, 'Project Pele ROI'!$F$36:$AL$36, 0)) / 1000 -> 4.6472007 | N36: =(_xlfn.XLOOKUP(N$5, 'Project Pele ROI'!$F$29:$AL$29, 'Project Pele ROI'!$F$32:$AL$32, 0) + _xlfn.XLOOKUP(N$5, 'Project Pele ROI'!$F$29:$AL$29, 'Project Pele ROI'!$F$36:$AL$36, 0)) / 1000 -> 4.6472007 | O36: =(_xlfn.XLOOKUP(O$5, 'Project Pele ROI'!$F$29:$AL$29, 'Project Pele ROI'!$F$32:$AL$32, 0) + _xlfn.XLOOKUP(O$5, 'Project Pele ROI'!$F$29:$AL$29, 'Project Pele ROI'!$F$36:$AL$36, 0)) / 1000 -> 4.6472007
D37: Project Eureka | G37: =(_xlfn.XLOOKUP(G$5, 'Project Eureka ROI'!$F$21:$AL$21, 'Project Eureka ROI'!$F$24:$AL$24, 0) + _xlfn.XLOOKUP(G$5, 'Project Eureka ROI'!$F$21:$AL$21, 'Project Eureka ROI'!$F$28:$AL$28, 0)) / 1000 -> 0 | H37: =(_xlfn.XLOOKUP(H$5, 'Project Eureka ROI'!$F$21:$AL$21, 'Project Eureka ROI'!$F$24:$AL$24, 0) + _xlfn.XLOOKUP(H$5, 'Project Eureka ROI'!$F$21:$AL$21, 'Project Eureka ROI'!$F$28:$AL$28, 0)) / 1000 -> 48.73323 | I37: =(_xlfn.XLOOKUP(I$5, 'Project Eureka ROI'!$F$21:$AL$21, 'Project Eureka ROI'!$F$24:$AL$24, 0) + _xlfn.XLOOKUP(I$5, 'Project Eureka ROI'!$F$21:$AL$21, 'Project Eureka ROI'!$F$28:$AL$28, 0)) / 1000 -> 51.23237 | J37: =(_xlfn.XLOOKUP(J$5, 'Project Eureka ROI'!$F$21:$AL$21, 'Project Eureka ROI'!$F$24:$AL$24, 0) + _xlfn.XLOOKUP(J$5, 'Project Eureka ROI'!$F$21:$AL$21, 'Project Eureka ROI'!$F$28:$AL$28, 0)) / 1000 -> 24.9914 | K37: =(_xlfn.XLOOKUP(K$5, 'Project Eureka ROI'!$F$21:$AL$21, 'Project Eureka ROI'!$F$24:$AL$24, 0) + _xlfn.XLOOKUP(K$5, 'Project Eureka ROI'!$F$21:$AL$21, 'Project Eureka ROI'!$F$28:$AL$28, 0)) / 1000 -> 1.24957 | L37: =(_xlfn.XLOOKUP(L$5, 'Project Eureka ROI'!$F$21:$AL$21, 'Project Eureka ROI'!$F$24:$AL$24, 0) + _xlfn.XLOOKUP(L$5, 'Project Eureka ROI'!$F$21:$AL$21, 'Project Eureka ROI'!$F$28:$AL$28, 0)) / 1000 -> 1.24957 | M37: =(_xlfn.XLOOKUP(M$5, 'Project Eureka ROI'!$F$21:$AL$21, 'Project Eureka ROI'!$F$24:$AL$24, 0) + _xlfn.XLOOKUP(M$5, 'Project Eureka ROI'!$F$21:$AL$21, 'Project Eureka ROI'!$F$28:$AL$28, 0)) / 1000 -> 1.24957 | N37: =(_xlfn.XLOOKUP(N$5, 'Project Eureka ROI'!$F$21:$AL$21, 'Project Eureka ROI'!$F$24:$AL$24, 0) + _xlfn.XLOOKUP(N$5, 'Project Eureka ROI'!$F$21:$AL$21, 'Project Eureka ROI'!$F$28:$AL$28, 0)) / 1000 -> 1.24957 | O37: =(_xlfn.XLOOKUP(O$5, 'Project Eureka ROI'!$F$21:$AL$21, 'Project Eureka ROI'!$F$24:$AL$24, 0) + _xlfn.XLOOKUP(O$5, 'Project Eureka ROI'!$F$21:$AL$21, 'Project Eureka ROI'!$F$28:$AL$28, 0)) / 1000 -> 1.24957
D38: Salt Lake City | G38: 20
